BEGIN:VCALENDAR
VERSION:2.0
PRODID:-//hacksw/handcal//NONSGML v1.0//EN
BEGIN:VEVENT
SUMMARY:Rando douce sur Nailly
UID:888facfb-9798-428c-97dd-13e9e56e4b96
DTSTART:20260412T070000Z
DTEND:20260412T100000Z
LOCATION:Localisation Parking salle des Fetes de Nailly 89100 Nailly
CATEGORIES:Sportif
STATUS:
DESCRIPTION:<p>Rando douce de 7/8 km sur les hauteurs de
 Nailly,quelques montees a prevoir</p>
 
 <p>Depart 9h depuis le parking
 de la salle des fetes de Nailly</p>
URL;VALUE=URI:https://randoreuse.sportsregions.fr/evenements/2026/04/12/rando-douce-sur-nailly-2440203
END:VEVENT
END:VCALENDAR
